BEGIN:VCALENDAR
VERSION:2.0
PRODID:-//Intand Corporation//Tandem//EN
METHOD:PUBLISH
BEGIN:VEVENT
DTSTAMP:20260422T140052Z
DTSTART:20260414T213000Z
DTEND:20260414T223000Z
TRANSP:TRANSPARENT
PRIORITY:0
SUMMARY:CO:  Guitar
LOCATION:Columbia Room 14
DESCRIPTION:Groups:\nEnrichment Class - Columbia\n\nSchools:\nColumbia Ele
 mentary School\n\nLocation:\nColumbia Room 14\n\n
URL;VALUE=URI:http://bham.tandemcal.com/index.php?type=view&action=event&i
 d=348747
CREATED:20260420T172950Z
LAST-MODIFIED:20260420T172950Z
UID:event-348747-bham@intand.com
END:VEVENT
END:VCALENDAR
