BEGIN:VCALENDAR
VERSION:2.0
PRODID:-//Intand Corporation//Tandem//EN
METHOD:PUBLISH
BEGIN:VEVENT
DTSTAMP:20260422T052750Z
DTSTART:20260602T000000Z
DTEND:20260602T030000Z
TRANSP:TRANSPARENT
PRIORITY:0
SUMMARY:Sehome Dance Aux Gym Tryout Judging
LOCATION:Sehome Auxiliary Gym
DESCRIPTION:Schools:\nSehome High School\n\nLocation:\nSehome Auxiliary Gy
 m\n\n
URL;VALUE=URI:https://bham.tandem.co/index.php?type=view&action=event&id=3
 47360
CREATED:20260326T180918Z
LAST-MODIFIED:20260326T180918Z
UID:event-347360-bham@intand.com
END:VEVENT
END:VCALENDAR
