BEGIN:VCALENDAR
VERSION:2.0
PRODID:-//Intand Corporation//Tandem//EN
METHOD:PUBLISH
BEGIN:VEVENT
DTSTAMP:20260422T142818Z
DTSTART:20260401T020000Z
DTEND:20260401T040000Z
TRANSP:TRANSPARENT
PRIORITY:0
SUMMARY:Apex NW
LOCATION:Alderwood Gym
DESCRIPTION:Groups:\nApex NW\n\nSchools:\nAlderwood Elementary School\n\nL
 ocation:\nAlderwood Gym\n\n
URL;VALUE=URI:https://bham.tandem.co/index.php?type=view&action=event&id=3
 42335
CREATED:20260123T215332Z
LAST-MODIFIED:20260407T200656Z
UID:facility_rental-342335-bham@intand.com
END:VEVENT
END:VCALENDAR
