BEGIN:VCALENDAR
VERSION:2.0
PRODID:-//Intand Corporation//Tandem//EN
METHOD:PUBLISH
BEGIN:VEVENT
DTSTAMP:20260424T073247Z
DTSTART;VALUE=DATE:20200305
DTEND;VALUE=DATE:20200306
TRANSP:TRANSPARENT
PRIORITY:0
SUMMARY:A Day
DESCRIPTION:Key Date\n\nSchools:\nDistrict Office\nShuksan Middle School\n
 Options High School\nSehome High School\nSqualicum High School\nWhatcom Mi
 ddle School\nFairhaven Middle School\nKulshan Middle School\nBellingham Hi
 gh School\n\n
URL;VALUE=URI:https://bham.tandem.co/index.php?type=key_date&action=detail
 s&id=169986
CREATED:20190717T001324Z
LAST-MODIFIED:20190717T001324Z
UID:keydate-169986-bham@intand.com
END:VEVENT
END:VCALENDAR
