BEGIN:VCALENDAR
VERSION:2.0
PRODID:-//Intand Corporation//Tandem//EN
METHOD:PUBLISH
BEGIN:VEVENT
DTSTAMP:20260421T150858Z
DTSTART:20260517T020000Z
DTEND:20260517T040000Z
TRANSP:TRANSPARENT
PRIORITY:0
SUMMARY:One Act Plays
LOCATION:Squalicum Stage\, Squalicum Forum
DESCRIPTION:Setup: 5:00 pm\nBreakdown: 11:00 pm\n\nSchools:\nSqualicum Hig
 h School\n\nLocations:\nSqualicum Stage\nSqualicum Forum\n\n
URL;VALUE=URI:http://bham.tandem.co/index.php?type=view&action=event&id=34
 7326
CREATED:20260325T160731Z
LAST-MODIFIED:20260325T160731Z
UID:event-347326-bham@intand.com
END:VEVENT
END:VCALENDAR
