BEGIN:VCALENDAR
VERSION:2.0
PRODID:-//Intand Corporation//Tandem//EN
METHOD:PUBLISH
BEGIN:VEVENT
DTSTAMP:20260420T201255Z
DTSTART:20260501T013000Z
DTEND:20260501T033000Z
TRANSP:TRANSPARENT
PRIORITY:0
SUMMARY:North Cascades Community Orchestra Concert
LOCATION:Bellingham PAC
DESCRIPTION:NCCO Concert\n\n\nGroups:\nNorth Cascades Community Orchestra 
 \n\nSchools:\nBellingham High School\n\nLocation:\nBellingham PAC\n\n
URL;VALUE=URI:http://bham.tandem.co/index.php?type=view&action=event&id=34
 0058
CREATED:20251212T232633Z
LAST-MODIFIED:20260218T200200Z
UID:facility_rental-340058-bham@intand.com
END:VEVENT
END:VCALENDAR
