BEGIN:VCALENDAR
VERSION:2.0
PRODID:-//Intand Corporation//Tandem//EN
METHOD:PUBLISH
BEGIN:VEVENT
DTSTAMP:20260421T153555Z
DTSTART:20260527T020000Z
DTEND:20260527T033000Z
TRANSP:TRANSPARENT
PRIORITY:0
SUMMARY:SqHS Choir Concert
LOCATION:Squalicum Stage\, Squalicum Forum\, Squalicum Gym
DESCRIPTION:Schools:\nSqualicum High School\n\nLocations:\nSqualicum Stage
 \nSqualicum Forum\nSqualicum Gym\n\n
URL;VALUE=URI:http://bham.tandem.co/index.php?type=view&action=event&id=32
 5690
CREATED:20250613T193008Z
LAST-MODIFIED:20250613T193008Z
UID:event-325690-bham@intand.com
END:VEVENT
END:VCALENDAR
